BEGIN:VCALENDAR
VERSION:2.0
PRODID:spatie/icalendar-generator
DESCRIPTION:Events from Low Vision Alliance\, Formerly Council of Citizens 
 with Low Vision International
X-WR-CALDESC:Events from Low Vision Alliance\, Formerly Council of Citizens
  with Low Vision International
REFRESH-INTERVAL;VALUE=DURATION:PT1440M
X-PUBLISHED-TTL:PT1440M
BEGIN:VTIMEZONE
TZID:Etc/GMT+4
BEGIN:STANDARD
DTSTART:20250724T200000Z
TZOFFSETFROM:-0400
TZOFFSETTO:-0400
END:STANDARD
END:VTIMEZONE
BEGIN:VTIMEZONE
TZID:UTC
BEGIN:STANDARD
DTSTART:20250727T031136Z
TZOFFSETFROM:+0000
TZOFFSETTO:+0000
END:STANDARD
END:VTIMEZONE
BEGIN:VEVENT
UID:2062-107
DTSTAMP:20260423T031136Z
SUMMARY:LVA Low Vision Peer Support Group
LOCATION:
ORGANIZER;CN=Sam Hubbard:MAILTO:shubbard18@gmail.com
DTSTART;TZID=Etc/GMT+4:20260420T200000
DTEND;TZID=Etc/GMT+4:20260420T210000
X-ALT-DESC;FMTTYPE=TEXT/HTML:This is a safe\, respectful and welcoming spac
 e to talk about the challenges of life with low vision. All are welcome! S
 ponsored by Low Vision Alliance
CATEGORIES:Peer Support Group
URL;VALUE=URI:https://cclvi.info/my-calendar/?mc_id=2062&#038;vcal=2062
METHOD:PUBLISH
END:VEVENT
END:VCALENDAR