BEGIN:VCALENDAR
VERSION:2.0
PRODID:spatie/icalendar-generator
DESCRIPTION:Events from Low Vision Alliance\, Formerly Council of Citizens 
 with Low Vision International
X-WR-CALDESC:Events from Low Vision Alliance\, Formerly Council of Citizens
  with Low Vision International
REFRESH-INTERVAL;VALUE=DURATION:PT1440M
X-PUBLISHED-TTL:PT1440M
BEGIN:VTIMEZONE
TZID:Etc/GMT+4
BEGIN:STANDARD
DTSTART:20250727T200000Z
TZOFFSETFROM:-0400
TZOFFSETTO:-0400
END:STANDARD
END:VTIMEZONE
BEGIN:VTIMEZONE
TZID:UTC
BEGIN:STANDARD
DTSTART:20250727T044630Z
TZOFFSETFROM:+0000
TZOFFSETTO:+0000
END:STANDARD
END:VTIMEZONE
BEGIN:VEVENT
UID:1798-66
DTSTAMP:20260423T044630Z
SUMMARY:Table Talk Thursday - 4th Thursday\, 8PM Eastern
LOCATION:
ORGANIZER;CN=Dianna Leonard:MAILTO:Dianna.l93@gmail.com
RRULE:FREQ=MONTHLY;BYDAY=4TH;UNTIL=20261022T000000Z
DTSTART;TZID=Etc/GMT+4:20260423T200000
DTEND;TZID=Etc/GMT+4:20260423T210000
X-ALT-DESC;FMTTYPE=TEXT/HTML:Join our exciting Thursday evening virtual eve
 nt at 8 pm Eastern. We offer terrific special discussions\, guest speakers
 \, and themed chats. It’s a great opportunity to share resources\, insig
 hts and encourage one another our low vision journeys. All welcome! 8pm Ea
 stern Zoom details posted on CCLVI-C HAT list and ACB Community list Email
  our webmaster&amp;hellip\;
CATEGORIES:Zoom Call,  Book Club,  Thursday Zoom 
URL;VALUE=URI:https://cclvi.info/my-calendar/?cid=my-calendar&#038;mc_id=17
 98&#038;vcal=1798
METHOD:PUBLISH
END:VEVENT
END:VCALENDAR