BEGIN:VCALENDAR
VERSION:2.0
PRODID:spatie/icalendar-generator
DESCRIPTION:Events from Low Vision Alliance\, Formerly Council of Citizens 
 with Low Vision International
X-WR-CALDESC:Events from Low Vision Alliance\, Formerly Council of Citizens
  with Low Vision International
REFRESH-INTERVAL;VALUE=DURATION:PT1440M
X-PUBLISHED-TTL:PT1440M
BEGIN:VTIMEZONE
TZID:Etc/GMT+4
BEGIN:STANDARD
DTSTART:20250723T190000Z
TZOFFSETFROM:-0400
TZOFFSETTO:-0400
END:STANDARD
END:VTIMEZONE
BEGIN:VTIMEZONE
TZID:UTC
BEGIN:STANDARD
DTSTART:20250727T044630Z
TZOFFSETFROM:+0000
TZOFFSETTO:+0000
END:STANDARD
END:VTIMEZONE
BEGIN:VEVENT
UID:1305-91
DTSTAMP:20260423T044630Z
SUMMARY:Fundraising Committee\, 7PM Eastern
LOCATION:
ORGANIZER;CN=Dianna Leonard:MAILTO:Dianna.l93@gmail.com
RRULE:FREQ=MONTHLY;BYDAY=3SU;UNTIL=20280116T000000Z
DTSTART;TZID=Etc/GMT+4:20260419T190000
DTEND;TZID=Etc/GMT+4:20260419T200000
X-ALT-DESC;FMTTYPE=TEXT/HTML:The Fundraising Committee meets every month at
  this time. You are invited to join us to hear how the work of the committ
 ee is conducted and offer suggestions. New members are welcome to the comm
 ittee as well.  Please watch CCLVI- chat listserv for zoom information. O
 r contact the chair of the committee about your interest.&amp;hellip\;
CATEGORIES:Zoom Call,  Committee meeting
URL;VALUE=URI:https://cclvi.info/my-calendar/?cid=my-calendar&#038;mc_id=13
 05&#038;vcal=1305
METHOD:PUBLISH
END:VEVENT
END:VCALENDAR